BEGIN:VCALENDAR
VERSION:2.0
PRODID:-//Sanford Performing Arts Center - ECPv6.15.20//NONSGML v1.0//EN
CALSCALE:GREGORIAN
METHOD:PUBLISH
X-ORIGINAL-URL:https://sanfordpac.org
X-WR-CALDESC:Events for Sanford Performing Arts Center
REFRESH-INTERVAL;VALUE=DURATION:PT1H
X-Robots-Tag:noindex
X-PUBLISHED-TTL:PT1H
BEGIN:VTIMEZONE
TZID:UTC
BEGIN:STANDARD
TZOFFSETFROM:+0000
TZOFFSETTO:+0000
TZNAME:UTC
DTSTART:20250101T000000
END:STANDARD
END:VTIMEZONE
BEGIN:VEVENT
DTSTART;TZID=UTC:20260117T190000
DTEND;TZID=UTC:20260117T210000
DTSTAMP:20260424T082910
CREATED:20251223T191843Z
LAST-MODIFIED:20251223T192854Z
UID:4159-1768676400-1768683600@sanfordpac.org
SUMMARY:Funny Women of a Certain Age
DESCRIPTION:What started as a fun idea among friends has grown into a national comedy sensation. Created by veteran comedian Carole Montgomery\, Women of a Certain Age Comedy (originally Funny Women of a Certain Age) made history as the first stand-up special to feature an all-female lineup over 50—quickly becoming Showtime’s highest-rated comedy special of the year. Since then\, it’s spun into two more hit specials\, sold-out tours\, and a devoted nationwide following. \nIn an industry that too often overlooks women over 50\, WOACA flips the script. These bold\, brilliant comedians—icons like Fran Drescher\, Caroline Rhea\, Janeane Garofalo\, Wendy Liebman\, Marsha Warfield\, and more—bring decades of experience\, razor-sharp wit\, and zero apologies to the stage. As Montgomery puts it\, “If you don’t like me\, you’ll like someone else … the show is fun for all ages.” \nFrom outrageous stories to unapologetic truth-telling\, this is comedy that proves funny only gets better with age. NextTribe calls it “female comics over 50 who are as hilarious as ever—but have fewer chances to show their stuff.” \nLEAVE THIS KIDS HOME FOR THIS ONE!\nThis show contains mature themes\, colorful language\, and candid discussions about bodies\, aging\, and all the “fun” that comes with it—shared in sometimes graphic (and always hilarious) detail. Not suitable for children\, unless you’re ready to explain things you’d rather not. Extremely suitable for women of a certain age\, their partners\, and anyone who enjoys a good laugh about life’s later chapters.
URL:https://sanfordpac.org/event/funny-women-of-a-certain-age/
LOCATION:Sanford Performing Arts Center\, 100 Alumni Blvd\, Sanford\, ME\, 04073\, United States
ATTACH;FMTTYPE=image/jpeg:https://sanfordpac.org/wp-content/uploads/2025/08/Funny-Women-Slide-2.jpg
END:VEVENT
BEGIN:VEVENT
DTSTART;TZID=UTC:20260124T190000
DTEND;TZID=UTC:20260124T210000
DTSTAMP:20260424T082910
CREATED:20251223T192558Z
LAST-MODIFIED:20251223T192830Z
UID:4161-1769281200-1769288400@sanfordpac.org
SUMMARY:Forbidden Broadway: Merrily We Stole a Song
DESCRIPTION:Fresh from its smash New York run\, Gerard Alessandrini’s Forbidden Broadway: Merrily We Stole a Song is a side-splitting musical roast of Broadway’s biggest hits and brightest stars. \nThis brand-new edition skewers everything from Cabaret and The Outsiders to & Juliet\, Six\, and Back to the Future—with classic jabs at Les Misérables\, Phantom\, Wicked\, and The Lion King. No show is safe\, no diva is spared\, and no note goes un-parodied. \nSince 1982\, Forbidden Broadway has been Broadway’s funniest tradition\, earning a Special Tony® Award and a slew of other honors for its sharp wit and loving satire. With 31 musicals in just 90 minutes\, it’s a fast-paced\, laugh-out-loud evening for theater lovers and insiders alike. \nIf you love Broadway\, you’ll laugh yourself silly. If you hate Broadway… you’ll laugh even harder! \n 
URL:https://sanfordpac.org/event/forbidden-broadway-merrily-we-stole-a-song/
LOCATION:Sanford Performing Arts Center\, 100 Alumni Blvd\, Sanford\, ME\, 04073\, United States
ATTACH;FMTTYPE=image/png:https://sanfordpac.org/wp-content/uploads/2025/08/Forbidden-Broadway-Tix.png
END:VEVENT
END:VCALENDAR