BEGIN:VCALENDAR
VERSION:2.0
PRODID:-//Sanford Performing Arts Center - ECPv6.15.20//NONSGML v1.0//EN
CALSCALE:GREGORIAN
METHOD:PUBLISH
X-WR-CALNAME:Sanford Performing Arts Center
X-ORIGINAL-URL:https://sanfordpac.org
X-WR-CALDESC:Events for Sanford Performing Arts Center
REFRESH-INTERVAL;VALUE=DURATION:PT1H
X-Robots-Tag:noindex
X-PUBLISHED-TTL:PT1H
BEGIN:VTIMEZONE
TZID:America/New_York
BEGIN:DAYLIGHT
TZOFFSETFROM:-0500
TZOFFSETTO:-0400
TZNAME:EDT
DTSTART:20240310T070000
END:DAYLIGHT
BEGIN:STANDARD
TZOFFSETFROM:-0400
TZOFFSETTO:-0500
TZNAME:EST
DTSTART:20241103T060000
END:STANDARD
BEGIN:DAYLIGHT
TZOFFSETFROM:-0500
TZOFFSETTO:-0400
TZNAME:EDT
DTSTART:20250309T070000
END:DAYLIGHT
BEGIN:STANDARD
TZOFFSETFROM:-0400
TZOFFSETTO:-0500
TZNAME:EST
DTSTART:20251102T060000
END:STANDARD
BEGIN:DAYLIGHT
TZOFFSETFROM:-0500
TZOFFSETTO:-0400
TZNAME:EDT
DTSTART:20260308T070000
END:DAYLIGHT
BEGIN:STANDARD
TZOFFSETFROM:-0400
TZOFFSETTO:-0500
TZNAME:EST
DTSTART:20261101T060000
END:STANDARD
END:VTIMEZONE
BEGIN:VEVENT
DTSTART;TZID=America/New_York:20250702T190000
DTEND;TZID=America/New_York:20250702T210000
DTSTAMP:20260424T170736
CREATED:20240924T172039Z
LAST-MODIFIED:20240924T172039Z
UID:3297-1751482800-1751490000@sanfordpac.org
SUMMARY:SPAC Spotlight Series presents "Casco Bay Wind Symphony"
DESCRIPTION:Experience the Casco Bay Wind Symphony for an extraordinary evening of music with “American Celebration” at the Sanford Performing Arts Center! This dynamic concert showcases the Symphony’s impressive ability to blend traditional and modern wind band pieces\, offering a rich and diverse musical experience. With a history of captivating performances at prestigious venues such as Portland’s Merrill Auditorium and the historic Celebration of the Arts Festival\, the Casco Bay Wind Symphony is a cherished part of the local cultural landscape. \nKnown for their distinctive sound\, which features a full range of woodwinds\, brass\, and percussion\, this wind symphony brings a unique and vibrant touch to every performance. From stirring patriotic anthems to innovative contemporary compositions\, the “American Celebration” promises to engage and inspire audiences of all ages. Don’t miss this opportunity to experience the exceptional talent and dedication of the Casco Bay Wind Symphony!
URL:https://sanfordpac.org/event/cbws-2025/
LOCATION:Sanford Performing Arts Center\, 100 Alumni Blvd\, Sanford\, ME\, 04073\, United States
ATTACH;FMTTYPE=image/png:https://sanfordpac.org/wp-content/uploads/2024/08/CBWS-HDR-1.png
END:VEVENT
END:VCALENDAR