BEGIN:VCALENDAR
VERSION:2.0
PRODID:-//Sanford Performing Arts Center - ECPv6.15.20//NONSGML v1.0//EN
CALSCALE:GREGORIAN
METHOD:PUBLISH
X-WR-CALNAME:Sanford Performing Arts Center
X-ORIGINAL-URL:https://sanfordpac.org
X-WR-CALDESC:Events for Sanford Performing Arts Center
REFRESH-INTERVAL;VALUE=DURATION:PT1H
X-Robots-Tag:noindex
X-PUBLISHED-TTL:PT1H
BEGIN:VTIMEZONE
TZID:America/New_York
BEGIN:DAYLIGHT
TZOFFSETFROM:-0500
TZOFFSETTO:-0400
TZNAME:EDT
DTSTART:20240310T070000
END:DAYLIGHT
BEGIN:STANDARD
TZOFFSETFROM:-0400
TZOFFSETTO:-0500
TZNAME:EST
DTSTART:20241103T060000
END:STANDARD
BEGIN:DAYLIGHT
TZOFFSETFROM:-0500
TZOFFSETTO:-0400
TZNAME:EDT
DTSTART:20250309T070000
END:DAYLIGHT
BEGIN:STANDARD
TZOFFSETFROM:-0400
TZOFFSETTO:-0500
TZNAME:EST
DTSTART:20251102T060000
END:STANDARD
BEGIN:DAYLIGHT
TZOFFSETFROM:-0500
TZOFFSETTO:-0400
TZNAME:EDT
DTSTART:20260308T070000
END:DAYLIGHT
BEGIN:STANDARD
TZOFFSETFROM:-0400
TZOFFSETTO:-0500
TZNAME:EST
DTSTART:20261101T060000
END:STANDARD
END:VTIMEZONE
BEGIN:VEVENT
DTSTART;TZID=America/New_York:20250501T100000
DTEND;TZID=America/New_York:20250501T113000
DTSTAMP:20260424T201438
CREATED:20240924T182029Z
LAST-MODIFIED:20240926T175310Z
UID:3313-1746093600-1746099000@sanfordpac.org
SUMMARY:Sanford Middle School Musical (Grades 7-8 Student Performance)
DESCRIPTION:
URL:https://sanfordpac.org/event/sms-musical-thurs/
LOCATION:Sanford Performing Arts Center\, 100 Alumni Blvd\, Sanford\, ME\, 04073\, United States
END:VEVENT
BEGIN:VEVENT
DTSTART;TZID=America/New_York:20250502T190000
DTEND;TZID=America/New_York:20250502T203000
DTSTAMP:20260424T201438
CREATED:20240924T164403Z
LAST-MODIFIED:20240926T175200Z
UID:3257-1746212400-1746217800@sanfordpac.org
SUMMARY:Sanford Middle School Musical
DESCRIPTION:
URL:https://sanfordpac.org/event/sms-musical-fri/
LOCATION:Sanford Performing Arts Center\, 100 Alumni Blvd\, Sanford\, ME\, 04073\, United States
END:VEVENT
BEGIN:VEVENT
DTSTART;TZID=America/New_York:20250503T190000
DTEND;TZID=America/New_York:20250503T203000
DTSTAMP:20260424T201438
CREATED:20240924T164428Z
LAST-MODIFIED:20240926T175235Z
UID:3259-1746298800-1746304200@sanfordpac.org
SUMMARY:Sanford Middle School Musical
DESCRIPTION:
URL:https://sanfordpac.org/event/sms-musical-sat/
LOCATION:Sanford Performing Arts Center\, 100 Alumni Blvd\, Sanford\, ME\, 04073\, United States
END:VEVENT
BEGIN:VEVENT
DTSTART;TZID=America/New_York:20250506T180000
DTEND;TZID=America/New_York:20250506T193000
DTSTAMP:20260424T201438
CREATED:20240924T164535Z
LAST-MODIFIED:20240924T164535Z
UID:3261-1746554400-1746559800@sanfordpac.org
SUMMARY:"Sanford High School Spring Concert"
DESCRIPTION:
URL:https://sanfordpac.org/event/shs-spring-concert/
LOCATION:Sanford Performing Arts Center\, 100 Alumni Blvd\, Sanford\, ME\, 04073\, United States
END:VEVENT
BEGIN:VEVENT
DTSTART;TZID=America/New_York:20250507T183000
DTEND;TZID=America/New_York:20250507T200000
DTSTAMP:20260424T201438
CREATED:20240924T164706Z
LAST-MODIFIED:20240924T164706Z
UID:3263-1746642600-1746648000@sanfordpac.org
SUMMARY:"Grades 5/6 Band & Chorus Concert"
DESCRIPTION:
URL:https://sanfordpac.org/event/grades56-band-chorus-concert/
LOCATION:Sanford Performing Arts Center\, 100 Alumni Blvd\, Sanford\, ME\, 04073\, United States
END:VEVENT
BEGIN:VEVENT
DTSTART;VALUE=DATE:20250510
DTEND;VALUE=DATE:20250511
DTSTAMP:20260424T201438
CREATED:20240924T164827Z
LAST-MODIFIED:20240924T164827Z
UID:3265-1746835200-1746921599@sanfordpac.org
SUMMARY:"Jazz Tappin Dance Academy Performances"
DESCRIPTION:
URL:https://sanfordpac.org/event/jtda-performances/
LOCATION:Sanford Performing Arts Center\, 100 Alumni Blvd\, Sanford\, ME\, 04073\, United States
END:VEVENT
BEGIN:VEVENT
DTSTART;TZID=America/New_York:20250513T091500
DTEND;TZID=America/New_York:20250513T110000
DTSTAMP:20260424T201438
CREATED:20240924T165058Z
LAST-MODIFIED:20240924T165058Z
UID:3267-1747127700-1747134000@sanfordpac.org
SUMMARY:Sanford Performing Arts Center presents "Don't Let the Pigeon Drive the Bus!"
DESCRIPTION:Hey\, kids and families! It’s ME\, the Pigeon! I’m so excited to invite you to “Don’t Let the Pigeon Drive the Bus! The Musical!” based on the fun-filled books by Mo Willems\, the #1 New York Times best-selling author and Caldecott Honor winner. \nWhen the Bus Driver takes a break\, guess what? I get to take the wheel! Join me for a side-splitting adventure full of feathers\, fantastic songs by Deborah Wicks La Puma (the genius behind “Elephant & Piggie’s We Are in a Play!”)\, and lots of interactive fun! \nBring your whole family and watch my whimsical antics unfold with lively tunes and delightful puppetry. Remember\, no boring bus drivers allowed in our show—they just don’t get how much fun pigeons can have! It’s a perfect way to dive into live theater\, and who knows—if you come\, maybe I’ll let you honk the horn!
URL:https://sanfordpac.org/event/pigeon-1/
LOCATION:Sanford Performing Arts Center\, 100 Alumni Blvd\, Sanford\, ME\, 04073\, United States
ATTACH;FMTTYPE=image/png:https://sanfordpac.org/wp-content/uploads/2024/08/Pigeon-HDR-2-e1746220260516.png
END:VEVENT
BEGIN:VEVENT
DTSTART;TZID=America/New_York:20250513T113000
DTEND;TZID=America/New_York:20250513T131500
DTSTAMP:20260424T201438
CREATED:20240924T165226Z
LAST-MODIFIED:20240924T165226Z
UID:3269-1747135800-1747142100@sanfordpac.org
SUMMARY:Sanford Performing Arts Center presents "Don't Let the Pigeon Drive the Bus!"
DESCRIPTION:Hey\, kids and families! It’s ME\, the Pigeon! I’m so excited to invite you to “Don’t Let the Pigeon Drive the Bus! The Musical!” based on the fun-filled books by Mo Willems\, the #1 New York Times best-selling author and Caldecott Honor winner. \nWhen the Bus Driver takes a break\, guess what? I get to take the wheel! Join me for a side-splitting adventure full of feathers\, fantastic songs by Deborah Wicks La Puma (the genius behind “Elephant & Piggie’s We Are in a Play!”)\, and lots of interactive fun! \nBring your whole family and watch my whimsical antics unfold with lively tunes and delightful puppetry. Remember\, no boring bus drivers allowed in our show—they just don’t get how much fun pigeons can have! It’s a perfect way to dive into live theater\, and who knows—if you come\, maybe I’ll let you honk the horn!
URL:https://sanfordpac.org/event/pigeon-2/
LOCATION:Sanford Performing Arts Center\, 100 Alumni Blvd\, Sanford\, ME\, 04073\, United States
ATTACH;FMTTYPE=image/png:https://sanfordpac.org/wp-content/uploads/2024/08/Pigeon-HDR-2-e1746220260516.png
END:VEVENT
BEGIN:VEVENT
DTSTART;TZID=America/New_York:20250514T183000
DTEND;TZID=America/New_York:20250514T200000
DTSTAMP:20260424T201438
CREATED:20240924T165344Z
LAST-MODIFIED:20240924T165344Z
UID:3271-1747247400-1747252800@sanfordpac.org
SUMMARY:"Sanford Middle School 7th & 8th Grade Concert"
DESCRIPTION:
URL:https://sanfordpac.org/event/sms-spring-concert/
LOCATION:Sanford Performing Arts Center\, 100 Alumni Blvd\, Sanford\, ME\, 04073\, United States
END:VEVENT
BEGIN:VEVENT
DTSTART;TZID=America/New_York:20250516T091500
DTEND;TZID=America/New_York:20250516T110000
DTSTAMP:20260424T201438
CREATED:20240924T165607Z
LAST-MODIFIED:20240924T165607Z
UID:3273-1747386900-1747393200@sanfordpac.org
SUMMARY:Sanford Performing Arts Center presents "Cat Kid"
DESCRIPTION:Get ready for a comic adventure like no other with “Cat Kid Comic Club: The Musical!” Join Cat Kid and Molly Pollywog as they start a club to teach 21 zany baby frogs how to create their own comics. But wait! When the frogs’ wild imaginations and endless bickering turn their comic creations into hilarious chaos\, will their club survive? Flippy the Fish is beside himself\, and it’s up to the kids to turn things around. \nBased on Dav Pilkey’s laugh-out-loud book series and brought to life by the creative team behind “Dog Man: The Musical\,” this uproarious musical will have kids and families in stitches. With a story full of funny mishaps\, vibrant music\, and wacky characters\, this show is a perfect way for kids to dive into live theater. Get ready to giggle\, cheer\, and maybe even create your own comic book adventures!
URL:https://sanfordpac.org/event/cat-kid-1/
LOCATION:Sanford Performing Arts Center\, 100 Alumni Blvd\, Sanford\, ME\, 04073\, United States
ATTACH;FMTTYPE=image/png:https://sanfordpac.org/wp-content/uploads/2024/08/Cat-Kid-HDR.png
END:VEVENT
BEGIN:VEVENT
DTSTART;TZID=America/New_York:20250516T113000
DTEND;TZID=America/New_York:20250516T131500
DTSTAMP:20260424T201438
CREATED:20240924T165711Z
LAST-MODIFIED:20240924T165711Z
UID:3275-1747395000-1747401300@sanfordpac.org
SUMMARY:Sanford Performing Arts Center presents "Cat Kid"
DESCRIPTION:Get ready for a comic adventure like no other with “Cat Kid Comic Club: The Musical!” Join Cat Kid and Molly Pollywog as they start a club to teach 21 zany baby frogs how to create their own comics. But wait! When the frogs’ wild imaginations and endless bickering turn their comic creations into hilarious chaos\, will their club survive? Flippy the Fish is beside himself\, and it’s up to the kids to turn things around. \nBased on Dav Pilkey’s laugh-out-loud book series and brought to life by the creative team behind “Dog Man: The Musical\,” this uproarious musical will have kids and families in stitches. With a story full of funny mishaps\, vibrant music\, and wacky characters\, this show is a perfect way for kids to dive into live theater. Get ready to giggle\, cheer\, and maybe even create your own comic book adventures!
URL:https://sanfordpac.org/event/cat-kid-2/
LOCATION:Sanford Performing Arts Center\, 100 Alumni Blvd\, Sanford\, ME\, 04073\, United States
ATTACH;FMTTYPE=image/png:https://sanfordpac.org/wp-content/uploads/2024/08/Cat-Kid-HDR.png
END:VEVENT
BEGIN:VEVENT
DTSTART;TZID=America/New_York:20250516T180000
DTEND;TZID=America/New_York:20250516T200000
DTSTAMP:20260424T201438
CREATED:20240924T171108Z
LAST-MODIFIED:20240924T171433Z
UID:3287-1747418400-1747425600@sanfordpac.org
SUMMARY:"York County Community College Graduation"
DESCRIPTION:
URL:https://sanfordpac.org/event/yccc-grad/
LOCATION:Sanford Performing Arts Center\, 100 Alumni Blvd\, Sanford\, ME\, 04073\, United States
END:VEVENT
BEGIN:VEVENT
DTSTART;VALUE=DATE:20250517
DTEND;VALUE=DATE:20250518
DTSTAMP:20260424T201438
CREATED:20240924T165908Z
LAST-MODIFIED:20240924T165908Z
UID:3277-1747440000-1747526399@sanfordpac.org
SUMMARY:"Dance Studio of Maine South Performances"
DESCRIPTION:
URL:https://sanfordpac.org/event/dsms-performances/
LOCATION:Sanford Performing Arts Center\, 100 Alumni Blvd\, Sanford\, ME\, 04073\, United States
END:VEVENT
BEGIN:VEVENT
DTSTART;VALUE=DATE:20250524
DTEND;VALUE=DATE:20250525
DTSTAMP:20260424T201438
CREATED:20240924T170021Z
LAST-MODIFIED:20240924T170021Z
UID:3279-1748044800-1748131199@sanfordpac.org
SUMMARY:"Dance House Productions Performances"
DESCRIPTION:
URL:https://sanfordpac.org/event/dance-house-performances/
LOCATION:Sanford Performing Arts Center\, 100 Alumni Blvd\, Sanford\, ME\, 04073\, United States
END:VEVENT
BEGIN:VEVENT
DTSTART;TZID=America/New_York:20250531T190000
DTEND;TZID=America/New_York:20250531T210000
DTSTAMP:20260424T201438
CREATED:20240924T170232Z
LAST-MODIFIED:20240924T170232Z
UID:3281-1748718000-1748725200@sanfordpac.org
SUMMARY:SPAC Spotlight Series presents "Neil Berg's 102 Years of Broadway"
DESCRIPTION:Step into the spotlight with “102 Years of Broadway\,” the highly anticipated sequel to last season’s hit\, “101 Years of Broadway\,” brought back by popular demand. Organized by the acclaimed Neil Berg\, this extraordinary musical revue celebrates over a century of Broadway’s greatest hits with a cast of five Broadway stars. Enjoy iconic songs from legendary shows like Les Misérables\, West Side Story\, and The Phantom of the Opera\, alongside the timeless music of Rodgers and Hammerstein\, Cole Porter\, George Gershwin\, Kander and Ebb\, and Andrew Lloyd Webber. Praised as “The very best Broadway concert ever!” and “A knockout from the very first song\,” this show promises a vibrant mix of unforgettable melodies and spectacular performances. \nImmerse yourself in the magic of Broadway as Neil Berg’s vision delivers a show described as “A Bruce Springsteen concert for the Broadway set.” With brilliant choreography\, dazzling costumes\, and a cast that perfectly captures Broadway’s rich history\, “102 Years of Broadway” offers an extraordinary night of musical brilliance. Whether you’re a lifelong fan or new to the stage\, this revue provides a captivating journey through theater’s enchanting world\, celebrating both classic and contemporary Broadway.
URL:https://sanfordpac.org/event/102-years/
LOCATION:Sanford Performing Arts Center\, 100 Alumni Blvd\, Sanford\, ME\, 04073\, United States
ATTACH;FMTTYPE=image/png:https://sanfordpac.org/wp-content/uploads/2024/08/102-Years-HDR.png
END:VEVENT
END:VCALENDAR