BEGIN:VCALENDAR
VERSION:2.0
PRODID:-//Sanford Performing Arts Center - ECPv6.15.20//NONSGML v1.0//EN
CALSCALE:GREGORIAN
METHOD:PUBLISH
X-ORIGINAL-URL:https://sanfordpac.org
X-WR-CALDESC:Events for Sanford Performing Arts Center
REFRESH-INTERVAL;VALUE=DURATION:PT1H
X-Robots-Tag:noindex
X-PUBLISHED-TTL:PT1H
BEGIN:VTIMEZONE
TZID:America/New_York
BEGIN:DAYLIGHT
TZOFFSETFROM:-0500
TZOFFSETTO:-0400
TZNAME:EDT
DTSTART:20240310T070000
END:DAYLIGHT
BEGIN:STANDARD
TZOFFSETFROM:-0400
TZOFFSETTO:-0500
TZNAME:EST
DTSTART:20241103T060000
END:STANDARD
BEGIN:DAYLIGHT
TZOFFSETFROM:-0500
TZOFFSETTO:-0400
TZNAME:EDT
DTSTART:20250309T070000
END:DAYLIGHT
BEGIN:STANDARD
TZOFFSETFROM:-0400
TZOFFSETTO:-0500
TZNAME:EST
DTSTART:20251102T060000
END:STANDARD
BEGIN:DAYLIGHT
TZOFFSETFROM:-0500
TZOFFSETTO:-0400
TZNAME:EDT
DTSTART:20260308T070000
END:DAYLIGHT
BEGIN:STANDARD
TZOFFSETFROM:-0400
TZOFFSETTO:-0500
TZNAME:EST
DTSTART:20261101T060000
END:STANDARD
END:VTIMEZONE
BEGIN:VEVENT
DTSTART;TZID=America/New_York:20250404T190000
DTEND;TZID=America/New_York:20250404T203000
DTSTAMP:20260424T220137
CREATED:20240924T163301Z
LAST-MODIFIED:20240924T163301Z
UID:3243-1743793200-1743798600@sanfordpac.org
SUMMARY:"Honors Jazz Festival"
DESCRIPTION:
URL:https://sanfordpac.org/event/jazz-fest-fri/
LOCATION:Sanford Performing Arts Center\, 100 Alumni Blvd\, Sanford\, ME\, 04073\, United States
END:VEVENT
BEGIN:VEVENT
DTSTART;TZID=America/New_York:20250409T190000
DTEND;TZID=America/New_York:20250409T210000
DTSTAMP:20260424T220137
CREATED:20240924T163928Z
LAST-MODIFIED:20240924T163928Z
UID:3251-1744225200-1744232400@sanfordpac.org
SUMMARY:SPAC Spotlight Series presents "One Night of Queen"
DESCRIPTION:Experience the electrifying magic of Queen with “One Night of Queen\,” the premier tribute band that brings the iconic sounds of Freddie Mercury and his legendary bandmates back to life. Known for their authentic performances and impeccable musicianship\, “One Night of Queen” delivers a thrilling live show featuring all the Queen classics you love. From the operatic grandeur of “Bohemian Rhapsody” to the infectious groove of “Somebody to Love\,” every song is performed with a passion and precision that will leave you awe-struck. \nStep into rock history as Gary Mullen channels Freddie Mercury’s magnetic charisma\, capturing the flamboyant stage presence and powerful vocals that defined Queen’s legendary concerts. With elaborate costumes\, high-energy performances\, and captivating visuals\, “One Night of Queen” offers a nostalgic journey through Queen’s greatest hits\, ensuring an unforgettable night of entertainment. Whether you’re a lifelong fan or new to their music\, this tribute band truly honors the legacy of Queen and promises to transport you to a bygone era of rock royalty.
URL:https://sanfordpac.org/event/queen-2025/
LOCATION:Sanford Performing Arts Center\, 100 Alumni Blvd\, Sanford\, ME\, 04073\, United States
ATTACH;FMTTYPE=image/png:https://sanfordpac.org/wp-content/uploads/2024/08/Queen-HDR.png
END:VEVENT
BEGIN:VEVENT
DTSTART;TZID=America/New_York:20250416T190000
DTEND;TZID=America/New_York:20250416T203000
DTSTAMP:20260424T220137
CREATED:20240924T164103Z
LAST-MODIFIED:20240924T164103Z
UID:3253-1744830000-1744835400@sanfordpac.org
SUMMARY:"National Honors Society Variety Show"
DESCRIPTION:
URL:https://sanfordpac.org/event/nhs-variety-show/
LOCATION:Sanford Performing Arts Center\, 100 Alumni Blvd\, Sanford\, ME\, 04073\, United States
END:VEVENT
BEGIN:VEVENT
DTSTART;TZID=America/New_York:20250423T190000
DTEND;TZID=America/New_York:20250423T210000
DTSTAMP:20260424T220137
CREATED:20240924T164230Z
LAST-MODIFIED:20240924T164230Z
UID:3255-1745434800-1745442000@sanfordpac.org
SUMMARY:SPAC Spotlight Series presents "iLUMINATE"
DESCRIPTION:Immerse yourself in the dazzling world of iLuminate\, a trailblazing act hailed as “Best New Act in America” by America’s Got Talent in 2011. This spectacular fusion of cutting-edge technology and dance has captivated audiences globally\, from its groundbreaking AGT debut to its current status as a top Las Vegas show. Featuring a cast of elite dancers\, iLuminate combines energetic music from pop\, rock\, jazz\, latin\, and hip-hop with extraordinary LED lighting effects created by customized suits synced to proprietary software. \nThe 2023-24 touring show introduces new stories\, music\, dances\, and LED suits\, enhancing the already unforgettable experience. As scenes unfold in the immersive “Club iLuminate\,” audiences are treated to a multi-sensory adventure of music\, dance\, illusion\, and comedy. This family-friendly performance is perfect for all ages\, inviting children five and up to join in the fun. Educational outreach opportunities are also available\, offering a unique learning experience.
URL:https://sanfordpac.org/event/iluminate/
LOCATION:Sanford Performing Arts Center\, 100 Alumni Blvd\, Sanford\, ME\, 04073\, United States
ATTACH;FMTTYPE=image/png:https://sanfordpac.org/wp-content/uploads/2024/08/iLuminate-HDR.png
END:VEVENT
BEGIN:VEVENT
DTSTART;TZID=America/New_York:20250430T100000
DTEND;TZID=America/New_York:20250430T113000
DTSTAMP:20260424T220137
CREATED:20240926T175413Z
LAST-MODIFIED:20240926T175413Z
UID:3321-1746007200-1746012600@sanfordpac.org
SUMMARY:Sanford Middle School Musical (Grades 5-6 Student Performance)
DESCRIPTION:
URL:https://sanfordpac.org/event/sms-musical-wed/
LOCATION:Sanford Performing Arts Center\, 100 Alumni Blvd\, Sanford\, ME\, 04073\, United States
END:VEVENT
END:VCALENDAR