BEGIN:VCALENDAR
VERSION:2.0
PRODID:-//Sanford Performing Arts Center - ECPv6.15.20//NONSGML v1.0//EN
CALSCALE:GREGORIAN
METHOD:PUBLISH
X-ORIGINAL-URL:https://sanfordpac.org
X-WR-CALDESC:Events for Sanford Performing Arts Center
REFRESH-INTERVAL;VALUE=DURATION:PT1H
X-Robots-Tag:noindex
X-PUBLISHED-TTL:PT1H
BEGIN:VTIMEZONE
TZID:America/New_York
BEGIN:DAYLIGHT
TZOFFSETFROM:-0500
TZOFFSETTO:-0400
TZNAME:EDT
DTSTART:20240310T070000
END:DAYLIGHT
BEGIN:STANDARD
TZOFFSETFROM:-0400
TZOFFSETTO:-0500
TZNAME:EST
DTSTART:20241103T060000
END:STANDARD
BEGIN:DAYLIGHT
TZOFFSETFROM:-0500
TZOFFSETTO:-0400
TZNAME:EDT
DTSTART:20250309T070000
END:DAYLIGHT
BEGIN:STANDARD
TZOFFSETFROM:-0400
TZOFFSETTO:-0500
TZNAME:EST
DTSTART:20251102T060000
END:STANDARD
BEGIN:DAYLIGHT
TZOFFSETFROM:-0500
TZOFFSETTO:-0400
TZNAME:EDT
DTSTART:20260308T070000
END:DAYLIGHT
BEGIN:STANDARD
TZOFFSETFROM:-0400
TZOFFSETTO:-0500
TZNAME:EST
DTSTART:20261101T060000
END:STANDARD
END:VTIMEZONE
BEGIN:VTIMEZONE
TZID:UTC
BEGIN:STANDARD
TZOFFSETFROM:+0000
TZOFFSETTO:+0000
TZNAME:UTC
DTSTART:20240101T000000
END:STANDARD
END:VTIMEZONE
BEGIN:VEVENT
DTSTART;TZID=America/New_York:20250301T190000
DTEND;TZID=America/New_York:20250301T210000
DTSTAMP:20260424T233825
CREATED:20240924T160730Z
LAST-MODIFIED:20240924T160730Z
UID:3222-1740855600-1740862800@sanfordpac.org
SUMMARY:SPAC Spotlight Series presents "The Step Crew"
DESCRIPTION:Welcome to The Step Crew\, an extraordinary show that merges Ottawa Valley stepdance\, Irish stepdance\, and Tap into one electrifying performance. This dynamic ensemble\, featuring virtuosic dancers and musicians from The Chieftains\, Cherish The Ladies\, and Bowfire\, offers a unique dance journey. The show highlights the intricate similarities and vibrant differences between these captivating styles. In addition to the stunning choreography\, The StepCrew showcases three world-class fiddlers and a five-piece band\, comprised of top Celtic musicians. \nFormed by a collective of award-winning dancers and musicians with roots in traditional and contemporary Celtic music\, The Step Crew brings together years of experience and collaboration. Their innovative performances have captivated audiences worldwide\, blending traditional rhythms with modern flair to create a truly unforgettable experience.
URL:https://sanfordpac.org/event/step-crew/
LOCATION:Sanford Performing Arts Center\, 100 Alumni Blvd\, Sanford\, ME\, 04073\, United States
ATTACH;FMTTYPE=image/png:https://sanfordpac.org/wp-content/uploads/2022/09/STEP-CREW-HDR-2.png
END:VEVENT
BEGIN:VEVENT
DTSTART;TZID=America/New_York:20250305T180000
DTEND;TZID=America/New_York:20250305T193000
DTSTAMP:20260424T233825
CREATED:20240924T162040Z
LAST-MODIFIED:20240924T162040Z
UID:3225-1741197600-1741203000@sanfordpac.org
SUMMARY:"Spring Sing"
DESCRIPTION:
URL:https://sanfordpac.org/event/spring-sing/
LOCATION:Sanford Performing Arts Center\, 100 Alumni Blvd\, Sanford\, ME\, 04073\, United States
END:VEVENT
BEGIN:VEVENT
DTSTART;TZID=America/New_York:20250305T190000
DTEND;TZID=America/New_York:20250305T210000
DTSTAMP:20260424T233825
CREATED:20240924T163543Z
LAST-MODIFIED:20240924T163543Z
UID:3247-1741201200-1741208400@sanfordpac.org
SUMMARY:SPAC Spotlight Series presents "Jazz at Lincoln Center: New Orleans Songbook"
DESCRIPTION:Dive into the vibrant heartbeat of New Orleans with New Orleans Songbook\, presented by Jazz at Lincoln Center! Immerse yourself in an evening that celebrates the legendary composers and inspired songs of the Crescent City—where jazz was born and thrives. From Jelly Roll Morton and Louis Armstrong to Ellis Marsalis and James Black\, this performance highlights the rich legacy of innovation that defines New Orleans. \nJoin pianist Luther S. Allison and vocalists Quiana Lynell and Milton Suggs as they bring the spirited essence of Mardi Gras to life. Imagine yourself swept away by the dynamic rhythms and soulful melodies that have graced “The Tonight Show Starring Jimmy Fallon\,” “PBS Great Performances\,” and “CBS Sunday Morning.” \nJazz at Lincoln Center\, a leading advocate for jazz\, culture\, and arts education\, invites you to experience this unforgettable show. Be part of a global celebration of jazz that entertains\, enriches\, and connects communities. Don’t miss this chance to feel the magic of New Orleans!
URL:https://sanfordpac.org/event/jalc/
LOCATION:Sanford Performing Arts Center\, 100 Alumni Blvd\, Sanford\, ME\, 04073\, United States
ATTACH;FMTTYPE=image/png:https://sanfordpac.org/wp-content/uploads/2024/08/JALC-HDR.png
END:VEVENT
BEGIN:VEVENT
DTSTART;TZID=America/New_York:20250311T183000
DTEND;TZID=America/New_York:20250311T200000
DTSTAMP:20260424T233825
CREATED:20240924T163409Z
LAST-MODIFIED:20240926T174210Z
UID:3245-1741717800-1741723200@sanfordpac.org
SUMMARY:"Bandfest"
DESCRIPTION:
URL:https://sanfordpac.org/event/bandfest2025/
LOCATION:Sanford Performing Arts Center\, 100 Alumni Blvd\, Sanford\, ME\, 04073\, United States
END:VEVENT
BEGIN:VEVENT
DTSTART;VALUE=DATE:20250314
DTEND;VALUE=DATE:20250315
DTSTAMP:20260424T233825
CREATED:20240924T162126Z
LAST-MODIFIED:20240924T162126Z
UID:3227-1741910400-1741996799@sanfordpac.org
SUMMARY:"Elite Dance Challenge"
DESCRIPTION:
URL:https://sanfordpac.org/event/elite-dance-challenge-fri/
LOCATION:Sanford Performing Arts Center\, 100 Alumni Blvd\, Sanford\, ME\, 04073\, United States
END:VEVENT
BEGIN:VEVENT
DTSTART;VALUE=DATE:20250315
DTEND;VALUE=DATE:20250316
DTSTAMP:20260424T233825
CREATED:20240924T162201Z
LAST-MODIFIED:20240924T162201Z
UID:3229-1741996800-1742083199@sanfordpac.org
SUMMARY:"Elite Dance Challenge"
DESCRIPTION:
URL:https://sanfordpac.org/event/elite-dance-challenge-sat/
LOCATION:ME
END:VEVENT
BEGIN:VEVENT
DTSTART;VALUE=DATE:20250316
DTEND;VALUE=DATE:20250317
DTSTAMP:20260424T233825
CREATED:20240924T162227Z
LAST-MODIFIED:20240924T162227Z
UID:3231-1742083200-1742169599@sanfordpac.org
SUMMARY:"Elite Dance Challenge"
DESCRIPTION:
URL:https://sanfordpac.org/event/elite-dance-challenge-sun/
LOCATION:ME
END:VEVENT
BEGIN:VEVENT
DTSTART;TZID=America/New_York:20250317T190000
DTEND;TZID=America/New_York:20250317T210000
DTSTAMP:20260424T233825
CREATED:20240924T162446Z
LAST-MODIFIED:20240926T174258Z
UID:3233-1742238000-1742245200@sanfordpac.org
SUMMARY:"Music in Our Schools Month with Casco Bay Wind Symphony"
DESCRIPTION:
URL:https://sanfordpac.org/event/misom-casco-bay/
LOCATION:ME
END:VEVENT
BEGIN:VEVENT
DTSTART;TZID=America/New_York:20250327T090000
DTEND;TZID=America/New_York:20250327T210000
DTSTAMP:20260424T233825
CREATED:20240924T181717Z
LAST-MODIFIED:20240924T181728Z
UID:3310-1743066000-1743109200@sanfordpac.org
SUMMARY:Sanford High School Theater Company presents "Grease" (Student Performance)
DESCRIPTION:Join us for a fresh take on the classic musical Grease\, restaged to be perfect for high school actors\, crew\, and audiences! This beloved show brings 1950s rock and roll\, romance\, and fun to life with a new\, age-appropriate twist. Watch our talented students shine as they perform iconic songs and dance numbers\, showcasing their dedication and creativity. \nYour support helps foster young local talent and provides them with invaluable experience. Come cheer on our stars and enjoy an evening of family-friendly entertainment! Be part of the excitement and support the next generation of theater stars!
URL:https://sanfordpac.org/event/grease-thurs/
LOCATION:Sanford Performing Arts Center\, 100 Alumni Blvd\, Sanford\, ME\, 04073\, United States
ATTACH;FMTTYPE=image/png:https://sanfordpac.org/wp-content/uploads/2024/08/Grease-HDR.png
END:VEVENT
BEGIN:VEVENT
DTSTART;TZID=America/New_York:20250328T190000
DTEND;TZID=America/New_York:20250328T210000
DTSTAMP:20260424T233825
CREATED:20240924T162715Z
LAST-MODIFIED:20240924T162715Z
UID:3235-1743188400-1743195600@sanfordpac.org
SUMMARY:Sanford High School Theater Company presents "Grease"
DESCRIPTION:Join us for a fresh take on the classic musical Grease\, restaged to be perfect for high school actors\, crew\, and audiences! This beloved show brings 1950s rock and roll\, romance\, and fun to life with a new\, age-appropriate twist. Watch our talented students shine as they perform iconic songs and dance numbers\, showcasing their dedication and creativity. \nYour support helps foster young local talent and provides them with invaluable experience. Come cheer on our stars and enjoy an evening of family-friendly entertainment! Be part of the excitement and support the next generation of theater stars!
URL:https://sanfordpac.org/event/grease-fri/
LOCATION:Sanford Performing Arts Center\, 100 Alumni Blvd\, Sanford\, ME\, 04073\, United States
ATTACH;FMTTYPE=image/png:https://sanfordpac.org/wp-content/uploads/2024/08/Grease-HDR.png
END:VEVENT
BEGIN:VEVENT
DTSTART;TZID=America/New_York:20250329T190000
DTEND;TZID=America/New_York:20250329T210000
DTSTAMP:20260424T233825
CREATED:20240924T162815Z
LAST-MODIFIED:20240924T162815Z
UID:3237-1743274800-1743282000@sanfordpac.org
SUMMARY:Sanford High School Theater Company presents "Grease"
DESCRIPTION:Join us for a fresh take on the classic musical Grease\, restaged to be perfect for high school actors\, crew\, and audiences! This beloved show brings 1950s rock and roll\, romance\, and fun to life with a new\, age-appropriate twist. Watch our talented students shine as they perform iconic songs and dance numbers\, showcasing their dedication and creativity. \nYour support helps foster young local talent and provides them with invaluable experience. Come cheer on our stars and enjoy an evening of family-friendly entertainment! Be part of the excitement and support the next generation of theater stars!
URL:https://sanfordpac.org/event/grease-sat/
LOCATION:Sanford Performing Arts Center\, 100 Alumni Blvd\, Sanford\, ME\, 04073\, United States
ATTACH;FMTTYPE=image/png:https://sanfordpac.org/wp-content/uploads/2024/08/Grease-HDR.png
END:VEVENT
BEGIN:VEVENT
DTSTART;TZID=America/New_York:20250330T140000
DTEND;TZID=America/New_York:20250330T160000
DTSTAMP:20260424T233825
CREATED:20240924T162912Z
LAST-MODIFIED:20240924T162912Z
UID:3239-1743343200-1743350400@sanfordpac.org
SUMMARY:Sanford High School Theater Company presents "Grease"
DESCRIPTION:Join us for a fresh take on the classic musical Grease\, restaged to be perfect for high school actors\, crew\, and audiences! This beloved show brings 1950s rock and roll\, romance\, and fun to life with a new\, age-appropriate twist. Watch our talented students shine as they perform iconic songs and dance numbers\, showcasing their dedication and creativity. \nYour support helps foster young local talent and provides them with invaluable experience. Come cheer on our stars and enjoy an evening of family-friendly entertainment! Be part of the excitement and support the next generation of theater stars!
URL:https://sanfordpac.org/event/grease-sun/
LOCATION:Sanford Performing Arts Center\, 100 Alumni Blvd\, Sanford\, ME\, 04073\, United States
ATTACH;FMTTYPE=image/png:https://sanfordpac.org/wp-content/uploads/2024/08/Grease-HDR.png
END:VEVENT
END:VCALENDAR