BEGIN:VCALENDAR
VERSION:2.0
PRODID:-//Sanford Performing Arts Center - ECPv6.15.20//NONSGML v1.0//EN
CALSCALE:GREGORIAN
METHOD:PUBLISH
X-ORIGINAL-URL:https://sanfordpac.org
X-WR-CALDESC:Events for Sanford Performing Arts Center
REFRESH-INTERVAL;VALUE=DURATION:PT1H
X-Robots-Tag:noindex
X-PUBLISHED-TTL:PT1H
BEGIN:VTIMEZONE
TZID:America/New_York
BEGIN:DAYLIGHT
TZOFFSETFROM:-0500
TZOFFSETTO:-0400
TZNAME:EDT
DTSTART:20240310T070000
END:DAYLIGHT
BEGIN:STANDARD
TZOFFSETFROM:-0400
TZOFFSETTO:-0500
TZNAME:EST
DTSTART:20241103T060000
END:STANDARD
BEGIN:DAYLIGHT
TZOFFSETFROM:-0500
TZOFFSETTO:-0400
TZNAME:EDT
DTSTART:20250309T070000
END:DAYLIGHT
BEGIN:STANDARD
TZOFFSETFROM:-0400
TZOFFSETTO:-0500
TZNAME:EST
DTSTART:20251102T060000
END:STANDARD
BEGIN:DAYLIGHT
TZOFFSETFROM:-0500
TZOFFSETTO:-0400
TZNAME:EDT
DTSTART:20260308T070000
END:DAYLIGHT
BEGIN:STANDARD
TZOFFSETFROM:-0400
TZOFFSETTO:-0500
TZNAME:EST
DTSTART:20261101T060000
END:STANDARD
END:VTIMEZONE
BEGIN:VEVENT
DTSTART;TZID=America/New_York:20250202T150000
DTEND;TZID=America/New_York:20250202T170000
DTSTAMP:20260425T012100
CREATED:20240924T160418Z
LAST-MODIFIED:20240924T160418Z
UID:3218-1738508400-1738515600@sanfordpac.org
SUMMARY:SPAC Spotlight Series presents "Jeeyoon Kim"
DESCRIPTION:Jeeyoon Kim\, celebrated for her innovative approach to classical piano\, will bring her latest project\, 시음 /si-úm/\, to the SPAC stage. This project uniquely blends poetry and black-and-white photography\, showcasing her commitment to pushing the boundaries of classical music. Known for transforming traditional performances into interactive experiences\, Jeeyoon has captivated audiences with her fresh perspective. \nHer acclaimed 2016 debut album\, 10 More Minutes\, and subsequent projects have set her apart in the classical world. Through her engaging performances at venues like Carnegie Hall and her podcast Journey Through Classical Piano\, Jeeyoon connects deeply with younger audiences\, making classical music accessible and exciting for all. Don’t miss this opportunity to experience her groundbreaking performance that bridges classical artistry with modern multimedia.
URL:https://sanfordpac.org/event/jeeyoon-kim/
LOCATION:Sanford Performing Arts Center\, 100 Alumni Blvd\, Sanford\, ME\, 04073\, United States
ATTACH;FMTTYPE=image/png:https://sanfordpac.org/wp-content/uploads/2024/07/Jeeyoon-Kim-HDR.png
END:VEVENT
BEGIN:VEVENT
DTSTART;TZID=America/New_York:20250208T190000
DTEND;TZID=America/New_York:20250208T210000
DTSTAMP:20260425T012100
CREATED:20240924T160557Z
LAST-MODIFIED:20240924T160557Z
UID:3220-1739041200-1739048400@sanfordpac.org
SUMMARY:SPAC Spotlight Series presents "Broadway's Next Hit Musical"
DESCRIPTION:Returning to the SPAC stage\, Broadway’s Next Hit Musical presents “The Phony Awards\,” an original improvised awards show that guarantees a night of spontaneous music and comedy. Audience members suggest made-up hit songs\, and master improvisers create a full-blown\, improvised musical from the winning song. Expect memorable characters\, witty dialogue\, and plot twists that will have you laughing and humming for days. \n  \nWith extensive tours across the U.S. and internationally\, and a residency at NYC’s Tony Award-winning cabaret club “54 Below\,” this acclaimed show offers a unique and hilarious experience. The New York Times calls it “Hilarious!” and Time Out NY praises it as “A musical of\, for\, and by the people.” Don’t miss this exciting return performance!
URL:https://sanfordpac.org/event/bnhm2025/
LOCATION:Sanford Performing Arts Center\, 100 Alumni Blvd\, Sanford\, ME\, 04073\, United States
ATTACH;FMTTYPE=image/jpeg:https://sanfordpac.org/wp-content/uploads/2024/07/BNHM-HDR.jpg
END:VEVENT
END:VCALENDAR